BEGIN:VCALENDAR
PRODID: -//CFLIB.ORG//iCalUS()//EN
VERSION:2.0
BEGIN:VTIMEZONE
TZID:Eastern Time
BEGIN:STANDARD
DTSTART:20061101T020000
RRULE:FREQ=YEARLY;INTERVAL=1;BYDAY=1SU;BYMONTH=11
TZOFFSETFROM:-0400
TZOFFSETTO:-0500
TZNAME:Standard Time
END:STANDARD
BEGIN:DAYLIGHT
DTSTART:20060301T020000
RRULE:FREQ=YEARLY;INTERVAL=1;BYDAY=2SU;BYMONTH=3
TZOFFSETFROM:-0500
TZOFFSETTO:-0400
TZNAME:Daylight Savings Time
END:DAYLIGHT
END:VTIMEZONE
BEGIN:VEVENT
UID:1621164837517.senate.gov
DTSTAMP:20210516T073357
DTSTART;TZID=Eastern Time:20210428T100000
DTEND;TZID=Eastern Time:20210428T120000
SUMMARY:Addressing Health Disparities in Indian Country: Review of the Indian Health Service’s COVID Response and Future Needs
LOCATION:Dirksen Senate Office Building
URL:https://www.appropriations.senate.gov/hearings/addressing-health-disparities-in-indian-country-review-of-the-indian-health-services-covid-response-and-future-needs
PRIORITY:1
TRANSP:OPAQUE
CLASS:PUBLIC
BEGIN:VALARM
TRIGGER:-PT30M
ACTION:DISPLAY
DESCRIPTION:Reminder
END:VALARM
END:VEVENT
END:VCALENDAR